BEGIN:VCALENDAR
VERSION:2.0
PRODID:-//BetterInvesting//tickertalkmay2026//EN
METHOD:PUBLISH
BEGIN:VEVENT
UID:20260422T140748BetterInvesting.org
DTSTAMP:20260422T140748Z
DTSTART:20260522T000000Z
DTEND:20260522T010000Z
LOCATION:Online only
DESCRIPTION:Cost: \nFree\n\nRegistration Details: \nOnce your registration is received, you will receive a confirmation email message with instructions on how to join the online event.\n\nRegistration URL: \nhttps://attendee.gotowebinar.com/register/7742295144731219031?source=event
SUMMARY:TickerTalk: May 2026
PRIORITY:3
BEGIN:VALARM
TRIGGER:P0DT0H15M
ACTION:DISPLAY
DESCRIPTION:Reminder
END:VALARM
END:VEVENT
END:VCALENDAR
