BEGIN:VCALENDAR
VERSION:2.0
PRODID:-//BetterInvesting//binc2026//EN
METHOD:PUBLISH
BEGIN:VEVENT
UID:20260424T140705BetterInvesting.org
DTSTAMP:20260424T140705Z
DTSTART;VALUE=DATE:20260423
DTEND;VALUE=DATE:20260427
LOCATION:Marriott Chicago O'Hare
DESCRIPTION:Address: \n8535 W Higgins Rd,\nChicago,, Illinois 60631\n\nLocation URL: \nhttps://www.marriott.com/en-us/hotels/chist-chicago-marriott-suites-ohare/overview/\n\nRegistration Details: \nThis event is available to BetterInvesting members and nonmembers. (Nonmembers receive 1 free year of membership!)  Don't wait, register today!\n\nRegistration URL: \nhttps://www.betterinvesting.org/binc2026/register
SUMMARY:BetterInvesting National Convention | BINC 2026
PRIORITY:3
BEGIN:VALARM
TRIGGER:P0DT0H15M
ACTION:DISPLAY
DESCRIPTION:Reminder
END:VALARM
END:VEVENT
END:VCALENDAR
