BEGIN:VCALENDAR
VERSION:2.0
PRODID:-//BetterInvesting//gettingstartednewgotowebinar//EN
METHOD:PUBLISH
BEGIN:VEVENT
UID:20260422T140445BetterInvesting.org
DTSTAMP:20260422T140445Z
DTSTART:20260515T000000Z
DTEND:20260515T003000Z
LOCATION:Online only
DESCRIPTION:Cost: \nFree\n\nRegistration Details: \nOnce your registration is received, you will receive a confirmation email message with instructions on how to join the online event.\n\nRegistration URL: \nhttps://attendee.gotowebinar.com/register/3454114034497036375?source=event
SUMMARY:Getting Started with the New GoToWebinar
PRIORITY:3
BEGIN:VALARM
TRIGGER:P0DT0H15M
ACTION:DISPLAY
DESCRIPTION:Reminder
END:VALARM
END:VEVENT
END:VCALENDAR
